Package: GRENITS Version: 1.50.2 Command: /home/biocbuild/bbs-3.16-bioc/R/bin/R CMD INSTALL GRENITS StartedAt: 2023-04-10 15:11:26 -0400 (Mon, 10 Apr 2023) EndedAt: 2023-04-10 15:13:07 -0400 (Mon, 10 Apr 2023) EllapsedTime: 100.8 seconds RetCode: 0 Status: OK