Package: GRENITS Version: 1.50.2 Command: /home/biocbuild/bbs-3.16-bioc/R/bin/R CMD build --keep-empty-dirs --no-resave-data GRENITS StartedAt: 2023-04-10 16:55:33 -0400 (Mon, 10 Apr 2023) EndedAt: 2023-04-10 16:57:35 -0400 (Mon, 10 Apr 2023) EllapsedTime: 121.5 seconds RetCode: 0 Status: OK PackageFile: GRENITS_1.50.2.tar.gz PackageFileSize: 148.9 KiB