Package: GNET2 Version: 1.14.0 Command: /home/biocbuild/bbs-3.16-bioc/R/bin/R CMD build --keep-empty-dirs --no-resave-data GNET2 StartedAt: 2023-04-10 16:53:31 -0400 (Mon, 10 Apr 2023) EndedAt: 2023-04-10 16:54:18 -0400 (Mon, 10 Apr 2023) EllapsedTime: 47.5 seconds RetCode: 0 Status: OK PackageFile: GNET2_1.14.0.tar.gz PackageFileSize: 712.8 KiB