Package: GEOsubmission Version: 1.50.0 Command: /Library/Frameworks/R.framework/Resources/bin/R CMD check --install=check:GEOsubmission.install-out.txt --library=/Library/Frameworks/R.framework/Resources/library --no-vignettes --timings GEOsubmission_1.50.0.tar.gz StartedAt: 2023-04-10 20:26:03 -0400 (Mon, 10 Apr 2023) EndedAt: 2023-04-10 20:26:37 -0400 (Mon, 10 Apr 2023) EllapsedTime: 34.2 seconds RetCode: 0 Status: OK CheckDir: GEOsubmission.Rcheck Warnings: 0