Package: FunChIP Version: 1.24.0 Command: rm -rf FunChIP.buildbin-libdir && mkdir FunChIP.buildbin-libdir && /Users/biocbuild/BBS/utils/build-universal.sh FunChIP_1.24.0.tar.gz /Library/Frameworks/R.framework/Resources/bin/R FunChIP.buildbin-libdir StartedAt: 2023-04-10 23:44:17 -0400 (Mon, 10 Apr 2023) EndedAt: 2023-04-10 23:45:05 -0400 (Mon, 10 Apr 2023) EllapsedTime: 48.1 seconds RetCode: 0 Status: OK PackageFile: FunChIP_1.24.0.tgz PackageFileSize: 23.63 MiB