Package: FlowSOM Version: 2.6.0 Command: rm -rf FlowSOM.buildbin-libdir && mkdir FlowSOM.buildbin-libdir && /Users/biocbuild/BBS/utils/build-universal.sh FlowSOM_2.6.0.tar.gz /Library/Frameworks/R.framework/Resources/bin/R FlowSOM.buildbin-libdir StartedAt: 2023-04-10 23:43:59 -0400 (Mon, 10 Apr 2023) EndedAt: 2023-04-10 23:44:18 -0400 (Mon, 10 Apr 2023) EllapsedTime: 18.5 seconds RetCode: 0 Status: OK PackageFile: FlowSOM_2.6.0.tgz PackageFileSize: 6.131 MiB