Package: ExperimentSubset Version: 1.8.0 Command: /home/biocbuild/bbs-3.16-bioc/R/bin/R CMD build --keep-empty-dirs --no-resave-data ExperimentSubset StartedAt: 2023-04-10 16:44:03 -0400 (Mon, 10 Apr 2023) EndedAt: 2023-04-10 16:44:53 -0400 (Mon, 10 Apr 2023) EllapsedTime: 49.7 seconds RetCode: 0 Status: OK PackageFile: ExperimentSubset_1.8.0.tar.gz PackageFileSize: 307.4 KiB