Package: ExiMiR Version: 2.40.0 Command: /home/biocbuild/bbs-3.16-bioc/R/bin/R CMD build --keep-empty-dirs --no-resave-data ExiMiR StartedAt: 2023-04-10 16:43:31 -0400 (Mon, 10 Apr 2023) EndedAt: 2023-04-10 16:44:33 -0400 (Mon, 10 Apr 2023) EllapsedTime: 62.0 seconds RetCode: 0 Status: OK PackageFile: ExiMiR_2.40.0.tar.gz PackageFileSize: 1.214 MiB