Package: EnMCB Version: 1.10.0 Command: /home/biocbuild/bbs-3.16-bioc/R/bin/R CMD INSTALL EnMCB StartedAt: 2023-04-10 15:57:51 -0400 (Mon, 10 Apr 2023) EndedAt: 2023-04-10 15:58:03 -0400 (Mon, 10 Apr 2023) EllapsedTime: 11.6 seconds RetCode: 0 Status: OK