Package: DirichletMultinomial Version: 1.40.0 Command: /Library/Frameworks/R.framework/Resources/bin/R CMD build --keep-empty-dirs --no-resave-data DirichletMultinomial StartedAt: 2023-04-10 16:23:55 -0400 (Mon, 10 Apr 2023) EndedAt: 2023-04-10 16:24:15 -0400 (Mon, 10 Apr 2023) EllapsedTime: 20.4 seconds RetCode: 0 Status: OK PackageFile: DirichletMultinomial_1.40.0.tar.gz PackageFileSize: 429.9 KiB