Package: DirichletMultinomial Version: 1.40.0 Command: rm -rf DirichletMultinomial.buildbin-libdir && mkdir DirichletMultinomial.buildbin-libdir && /Users/biocbuild/BBS/utils/build-universal.sh DirichletMultinomial_1.40.0.tar.gz /Library/Frameworks/R.framework/Resources/bin/R DirichletMultinomial.buildbin-libdir StartedAt: 2023-04-10 23:40:58 -0400 (Mon, 10 Apr 2023) EndedAt: 2023-04-10 23:41:10 -0400 (Mon, 10 Apr 2023) EllapsedTime: 12.5 seconds RetCode: 0 Status: OK PackageFile: DirichletMultinomial_1.40.0.tgz PackageFileSize: 863.8 KiB