| Back to Multiple platform build/check report for BioC 3.16: simplified long |
|
This page was generated on 2023-04-12 11:05:30 -0400 (Wed, 12 Apr 2023).
| Hostname | OS | Arch (*) | R version | Installed pkgs |
|---|---|---|---|---|
| nebbiolo2 | Linux (Ubuntu 20.04.5 LTS) | x86_64 | 4.2.3 (2023-03-15) -- "Shortstop Beagle" | 4502 |
| palomino4 | Windows Server 2022 Datacenter | x64 | 4.2.3 (2023-03-15 ucrt) -- "Shortstop Beagle" | 4282 |
| lconway | macOS 12.5.1 Monterey | x86_64 | 4.2.3 (2023-03-15) -- "Shortstop Beagle" | 4310 |
| Click on any hostname to see more info about the system (e.g. compilers) (*) as reported by 'uname -p', except on Windows and Mac OS X | ||||
|
To the developers/maintainers of the DEFormats package: - Please allow up to 24 hours (and sometimes 48 hours) for your latest push to git@git.bioconductor.org:packages/DEFormats.git to reflect on this report. See How and When does the builder pull? When will my changes propagate? for more information. - Make sure to use the following settings in order to reproduce any error or warning you see on this page. |
| Package 498/2183 | Hostname | OS / Arch | INSTALL | BUILD | CHECK | BUILD BIN | ||||||||
| DEFormats 1.26.0 (landing page) Andrzej OleÅ›
| nebbiolo2 | Linux (Ubuntu 20.04.5 LTS) / x86_64 | OK | OK | OK | |||||||||
| palomino4 | Windows Server 2022 Datacenter / x64 | OK | OK | OK | OK | |||||||||
| lconway | macOS 12.5.1 Monterey / x86_64 | OK | OK | OK | OK | |||||||||
| Package: DEFormats |
| Version: 1.26.0 |
| Command: rm -rf DEFormats.buildbin-libdir && mkdir DEFormats.buildbin-libdir && F:\biocbuild\bbs-3.16-bioc\R\bin\R.exe CMD INSTALL --build --library=DEFormats.buildbin-libdir DEFormats_1.26.0.tar.gz |
| StartedAt: 2023-04-11 07:52:26 -0400 (Tue, 11 Apr 2023) |
| EndedAt: 2023-04-11 07:53:09 -0400 (Tue, 11 Apr 2023) |
| EllapsedTime: 42.9 seconds |
| RetCode: 0 |
| Status: OK |
| PackageFile: DEFormats_1.26.0.zip |
| PackageFileSize: 555.7 KiB |
##############################################################################
##############################################################################
###
### Running command:
###
### rm -rf DEFormats.buildbin-libdir && mkdir DEFormats.buildbin-libdir && F:\biocbuild\bbs-3.16-bioc\R\bin\R.exe CMD INSTALL --build --library=DEFormats.buildbin-libdir DEFormats_1.26.0.tar.gz
###
##############################################################################
##############################################################################
* installing *source* package 'DEFormats' ...
** using staged installation
** R
** inst
** byte-compile and prepare package for lazy loading
Creating a generic function for 'DGEList' from 'edgeR' in package 'DEFormats'
(from the saved implicit definition)
** help
*** installing help indices
** building package indices
** installing vignettes
** testing if installed package can be loaded from temporary location
** testing if installed package can be loaded from final location
** testing if installed package keeps a record of temporary installation path
* MD5 sums
packaged installation of 'DEFormats' as DEFormats_1.26.0.zip
* DONE (DEFormats)