Package: DART Version: 1.46.0 Command: /Library/Frameworks/R.framework/Resources/bin/R CMD build --keep-empty-dirs --no-resave-data DART StartedAt: 2023-04-10 16:18:41 -0400 (Mon, 10 Apr 2023) EndedAt: 2023-04-10 16:19:03 -0400 (Mon, 10 Apr 2023) EllapsedTime: 22.5 seconds RetCode: 0 Status: OK PackageFile: DART_1.46.0.tar.gz PackageFileSize: 1.987 MiB