Package: CopywriteR Version: 2.30.0 Command: /home/biocbuild/bbs-3.16-bioc/R/bin/R CMD check --install=check:CopywriteR.install-out.txt --library=/home/biocbuild/bbs-3.16-bioc/R/site-library --timings CopywriteR_2.30.0.tar.gz StartedAt: 2023-04-10 19:57:09 -0400 (Mon, 10 Apr 2023) EndedAt: 2023-04-10 20:02:14 -0400 (Mon, 10 Apr 2023) EllapsedTime: 304.8 seconds RetCode: 1 Status: ERROR CheckDir: CopywriteR.Rcheck Warnings: NA