Package: ChIPseqR Version: 1.52.0 Command: rm -rf ChIPseqR.buildbin-libdir && mkdir ChIPseqR.buildbin-libdir && /Users/biocbuild/BBS/utils/build-universal.sh ChIPseqR_1.52.0.tar.gz /Library/Frameworks/R.framework/Resources/bin/R ChIPseqR.buildbin-libdir StartedAt: 2023-04-10 23:36:35 -0400 (Mon, 10 Apr 2023) EndedAt: 2023-04-10 23:37:19 -0400 (Mon, 10 Apr 2023) EllapsedTime: 44.0 seconds RetCode: 0 Status: OK PackageFile: ChIPseqR_1.52.0.tgz PackageFileSize: 1.495 MiB