Package: ChIPseqR Version: 1.51.0 Command: /Library/Frameworks/R.framework/Resources/bin/R CMD build --keep-empty-dirs --no-resave-data ChIPseqR StartedAt: 2022-07-06 19:21:53 -0400 (Wed, 06 Jul 2022) EndedAt: 2022-07-06 19:23:12 -0400 (Wed, 06 Jul 2022) EllapsedTime: 78.6 seconds RetCode: 0 Status: OK PackageFile: ChIPseqR_1.51.0.tar.gz PackageFileSize: 728.4 KiB