Package: ChIPseqR Version: 1.51.0 Command: rm -rf ChIPseqR.buildbin-libdir && mkdir ChIPseqR.buildbin-libdir && /Users/biocbuild/BBS/utils/build-universal.sh ChIPseqR_1.51.0.tar.gz /Library/Frameworks/R.framework/Resources/bin/R ChIPseqR.buildbin-libdir StartedAt: 2022-07-07 07:40:26 -0400 (Thu, 07 Jul 2022) EndedAt: 2022-07-07 07:41:35 -0400 (Thu, 07 Jul 2022) EllapsedTime: 69.5 seconds RetCode: 1 Status: ERROR PackageFile: None PackageFileSize: NA