Package: CellScore Version: 1.18.0 Command: chmod a+r CellScore -R && F:\biocbuild\bbs-3.16-bioc\R\bin\R.exe CMD build --keep-empty-dirs --no-resave-data CellScore StartedAt: 2023-04-10 17:38:22 -0400 (Mon, 10 Apr 2023) EndedAt: 2023-04-10 17:41:06 -0400 (Mon, 10 Apr 2023) EllapsedTime: 164.7 seconds RetCode: 0 Status: OK PackageFile: CellScore_1.18.0.tar.gz PackageFileSize: 4.175 MiB