Package: CellScore Version: 1.18.0 Command: /home/biocbuild/bbs-3.16-bioc/R/bin/R CMD check --install=check:CellScore.install-out.txt --library=/home/biocbuild/bbs-3.16-bioc/R/site-library --timings CellScore_1.18.0.tar.gz StartedAt: 2023-04-10 19:36:13 -0400 (Mon, 10 Apr 2023) EndedAt: 2023-04-10 19:41:48 -0400 (Mon, 10 Apr 2023) EllapsedTime: 334.8 seconds RetCode: 0 Status: OK CheckDir: CellScore.Rcheck Warnings: 0