Package: CellScore Version: 1.18.0 Command: rm -rf CellScore.buildbin-libdir && mkdir CellScore.buildbin-libdir && /Users/biocbuild/BBS/utils/build-universal.sh CellScore_1.18.0.tar.gz /Library/Frameworks/R.framework/Resources/bin/R CellScore.buildbin-libdir StartedAt: 2023-04-10 23:36:09 -0400 (Mon, 10 Apr 2023) EndedAt: 2023-04-10 23:36:16 -0400 (Mon, 10 Apr 2023) EllapsedTime: 6.9 seconds RetCode: 0 Status: OK PackageFile: CellScore_1.18.0.tgz PackageFileSize: 4.262 MiB