Package: CancerInSilico Version: 2.17.0 Command: /Library/Frameworks/R.framework/Resources/bin/R CMD build --keep-empty-dirs --no-resave-data CancerInSilico StartedAt: 2022-07-11 07:45:16 -0400 (Mon, 11 Jul 2022) EndedAt: 2022-07-11 08:25:16 -0400 (Mon, 11 Jul 2022) EllapsedTime: 2400.8 seconds RetCode: None Status: TIMEOUT PackageFile: None PackageFileSize: NA