Package: CNORfuzzy Version: 1.40.0 Command: rm -rf CNORfuzzy.buildbin-libdir && mkdir CNORfuzzy.buildbin-libdir && F:\biocbuild\bbs-3.16-bioc\R\bin\R.exe CMD INSTALL --build --library=CNORfuzzy.buildbin-libdir CNORfuzzy_1.40.0.tar.gz StartedAt: 2023-04-11 07:45:59 -0400 (Tue, 11 Apr 2023) EndedAt: 2023-04-11 07:46:45 -0400 (Tue, 11 Apr 2023) EllapsedTime: 45.5 seconds RetCode: 0 Status: OK PackageFile: CNORfuzzy_1.40.0.zip PackageFileSize: 701.5 KiB