Package: CNORfeeder Version: 1.38.0 Command: /home/biocbuild/bbs-3.16-bioc/R/bin/R CMD build --keep-empty-dirs --no-resave-data CNORfeeder StartedAt: 2023-04-10 16:24:31 -0400 (Mon, 10 Apr 2023) EndedAt: 2023-04-10 16:24:42 -0400 (Mon, 10 Apr 2023) EllapsedTime: 11.0 seconds RetCode: 0 Status: OK PackageFile: CNORfeeder_1.38.0.tar.gz PackageFileSize: 3.289 MiB