Package: BiocFileCache Version: 2.6.1 Command: /home/biocbuild/bbs-3.16-bioc/R/bin/R CMD build --keep-empty-dirs --no-resave-data BiocFileCache StartedAt: 2023-04-10 16:10:58 -0400 (Mon, 10 Apr 2023) EndedAt: 2023-04-10 16:11:58 -0400 (Mon, 10 Apr 2023) EllapsedTime: 60.1 seconds RetCode: 0 Status: OK PackageFile: BiocFileCache_2.6.1.tar.gz PackageFileSize: 291.8 KiB