Package: BioNet Version: 1.58.0 Command: rm -rf BioNet.buildbin-libdir && mkdir BioNet.buildbin-libdir && F:\biocbuild\bbs-3.16-bioc\R\bin\R.exe CMD INSTALL --build --library=BioNet.buildbin-libdir BioNet_1.58.0.tar.gz StartedAt: 2023-04-11 07:38:25 -0400 (Tue, 11 Apr 2023) EndedAt: 2023-04-11 07:38:45 -0400 (Tue, 11 Apr 2023) EllapsedTime: 20.4 seconds RetCode: 0 Status: OK PackageFile: BioNet_1.58.0.zip PackageFileSize: 1.324 MiB