Package: BioNERO Version: 1.6.1 Command: /home/biocbuild/bbs-3.16-bioc/R/bin/R CMD INSTALL BioNERO StartedAt: 2023-04-10 15:33:57 -0400 (Mon, 10 Apr 2023) EndedAt: 2023-04-10 15:34:41 -0400 (Mon, 10 Apr 2023) EllapsedTime: 44.4 seconds RetCode: 0 Status: OK