Package: BioMM Version: 1.13.0 Command: /Library/Frameworks/R.framework/Resources/bin/R CMD build --keep-empty-dirs --no-resave-data BioMM StartedAt: 2022-07-10 22:26:59 -0400 (Sun, 10 Jul 2022) EndedAt: 2022-07-10 22:28:51 -0400 (Sun, 10 Jul 2022) EllapsedTime: 111.9 seconds RetCode: 1 Status: ERROR PackageFile: None PackageFileSize: NA