Package: BaalChIP Version: 1.24.0 Command: rm -rf BaalChIP.buildbin-libdir && mkdir BaalChIP.buildbin-libdir && /Users/biocbuild/BBS/utils/build-universal.sh BaalChIP_1.24.0.tar.gz /Library/Frameworks/R.framework/Resources/bin/R BaalChIP.buildbin-libdir StartedAt: 2023-04-10 23:32:37 -0400 (Mon, 10 Apr 2023) EndedAt: 2023-04-10 23:34:26 -0400 (Mon, 10 Apr 2023) EllapsedTime: 109.0 seconds RetCode: 0 Status: OK PackageFile: BaalChIP_1.24.0.tgz PackageFileSize: 107 MiB