Package: BASiCS Version: 2.9.1 Command: /Library/Frameworks/R.framework/Resources/bin/R CMD INSTALL BASiCS StartedAt: 2022-07-10 19:10:15 -0400 (Sun, 10 Jul 2022) EndedAt: 2022-07-10 19:14:13 -0400 (Sun, 10 Jul 2022) EllapsedTime: 237.4 seconds RetCode: 0 Status: OK