Package: AnnotationDbi Version: 1.60.2 Command: chmod a+r AnnotationDbi -R && F:\biocbuild\bbs-3.16-bioc\R\bin\R.exe CMD build --keep-empty-dirs --no-resave-data AnnotationDbi StartedAt: 2023-04-10 17:01:16 -0400 (Mon, 10 Apr 2023) EndedAt: 2023-04-10 17:03:00 -0400 (Mon, 10 Apr 2023) EllapsedTime: 103.2 seconds RetCode: 0 Status: OK PackageFile: AnnotationDbi_1.60.2.tar.gz PackageFileSize: 4.16 MiB