Package: AnnotationDbi Version: 1.59.1 Command: /Library/Frameworks/R.framework/Resources/bin/R CMD build --keep-empty-dirs --no-resave-data AnnotationDbi StartedAt: 2022-07-10 20:22:40 -0400 (Sun, 10 Jul 2022) EndedAt: 2022-07-10 20:23:24 -0400 (Sun, 10 Jul 2022) EllapsedTime: 44.2 seconds RetCode: 1 Status: ERROR PackageFile: None PackageFileSize: NA