Package: AnVILPublish Version: 1.8.0 Command: /home/biocbuild/bbs-3.16-bioc/R/bin/R CMD build --keep-empty-dirs --no-resave-data AnVILPublish StartedAt: 2023-04-10 16:03:53 -0400 (Mon, 10 Apr 2023) EndedAt: 2023-04-10 16:04:02 -0400 (Mon, 10 Apr 2023) EllapsedTime: 8.7 seconds RetCode: 0 Status: OK PackageFile: AnVILPublish_1.8.0.tar.gz PackageFileSize: 236.8 KiB