Package: ATACseqQC Version: 1.21.2 Command: /Library/Frameworks/R.framework/Resources/bin/R CMD INSTALL ATACseqQC StartedAt: 2022-07-10 18:57:08 -0400 (Sun, 10 Jul 2022) EndedAt: 2022-07-10 18:57:08 -0400 (Sun, 10 Jul 2022) EllapsedTime: 0.7 seconds RetCode: 1 Status: ERROR