Package: AGDEX Version: 1.46.0 Command: /home/biocbuild/bbs-3.16-bioc/R/bin/R CMD build --keep-empty-dirs --no-resave-data AGDEX StartedAt: 2023-04-10 16:01:59 -0400 (Mon, 10 Apr 2023) EndedAt: 2023-04-10 16:02:26 -0400 (Mon, 10 Apr 2023) EllapsedTime: 26.6 seconds RetCode: 0 Status: OK PackageFile: AGDEX_1.46.0.tar.gz PackageFileSize: 483 KiB