Package: ABarray Version: 1.66.0 Command: /Library/Frameworks/R.framework/Resources/bin/R CMD build --keep-empty-dirs --no-resave-data ABarray StartedAt: 2023-04-10 15:46:11 -0400 (Mon, 10 Apr 2023) EndedAt: 2023-04-10 15:46:34 -0400 (Mon, 10 Apr 2023) EllapsedTime: 22.5 seconds RetCode: 0 Status: OK PackageFile: ABarray_1.66.0.tar.gz PackageFileSize: 684.3 KiB