Package: variants Version: 1.20.0 Command: /home/biocbuild/bbs-3.15-bioc/R/bin/R CMD build --keep-empty-dirs --no-resave-data variants StartedAt: 2022-10-18 08:03:18 -0400 (Tue, 18 Oct 2022) EndedAt: 2022-10-18 08:04:25 -0400 (Tue, 18 Oct 2022) EllapsedTime: 66.9 seconds RetCode: 0 Status: OK PackageFile: variants_1.20.0.tar.gz PackageFileSize: 4.84 MiB