git_url: https://git.bioconductor.org/packages/variants git_branch: RELEASE_3_15 git_last_commit: 1164b80 git_last_commit_date: 2022-04-26 12:41:08 -0400 (Tue, 26 Apr 2022) Package: variants Version: 1.20.0 Maintainer: Bioconductor Package Maintainer MaintainerEmail: maintainer at bioconductor.org