| Back to Build/check report for BioC 3.15 experimental data | 
 | 
This page was generated on 2022-10-18 14:50:10 -0400 (Tue, 18 Oct 2022).
| Hostname | OS | Arch (*) | R version | Installed pkgs | 
|---|---|---|---|---|
| nebbiolo1 | Linux (Ubuntu 20.04.5 LTS) | x86_64 | 4.2.1 (2022-06-23) -- "Funny-Looking Kid" | 4386 | 
| Click on any hostname to see more info about the system (e.g. compilers) (*) as reported by 'uname -p', except on Windows and Mac OS X | ||||
| To the developers/maintainers of the flowWorkspaceData package: Make sure to use the following settings in order to reproduce any error or warning you see on this page. | 
| Package 133/410 | Hostname | OS / Arch | INSTALL | BUILD | CHECK | ||||||||
| flowWorkspaceData 3.8.0  (landing page) Mike Jiang 
 | nebbiolo1 | Linux (Ubuntu 20.04.5 LTS) / x86_64 | OK | OK | OK |  | |||||||