git_url: https://git.bioconductor.org/packages/TabulaMurisSenisData git_branch: RELEASE_3_15 git_last_commit: 71d4d65 git_last_commit_date: 2022-04-26 13:36:53 -0400 (Tue, 26 Apr 2022) Package: TabulaMurisSenisData Version: 1.2.0 Maintainer: Charlotte Soneson MaintainerEmail: charlottesoneson at gmail.com