Package: RnBeads.mm10 Version: 2.4.1 Command: /home/biocbuild/bbs-3.15-bioc/R/bin/R CMD check --install=check:RnBeads.mm10.install-out.txt --library=/home/biocbuild/bbs-3.15-bioc/R/library --no-vignettes --timings RnBeads.mm10_2.4.1.tar.gz StartedAt: 2022-10-18 11:40:09 -0400 (Tue, 18 Oct 2022) EndedAt: 2022-10-18 11:42:08 -0400 (Tue, 18 Oct 2022) EllapsedTime: 118.4 seconds RetCode: 0 Status: OK CheckDir: RnBeads.mm10.Rcheck Warnings: 0