All our mirrors of open source software are available via http, https, ftp and an onion service. More information about our mirrors including statistics and contact information is available on our mirror info pages.
For information about dotsrc.org and our other services please go to our website.
| File Name ↓ | File Size ↓ | Date ↓ |
|---|---|---|
| Parent directory/ | - | - |
| ALL/ | - | 2022-10-18 18:50:11 |
| ALLMLL/ | - | 2022-10-18 18:50:11 |
| ARRmData/ | - | 2022-10-18 18:50:11 |
| ASICSdata/ | - | 2022-10-18 18:50:11 |
| Affyhgu133A2Expr/ | - | 2022-10-18 18:50:11 |
| Affyhgu133Plus2Expr/ | - | 2022-10-18 18:50:11 |
| Affyhgu133aExpr/ | - | 2022-10-18 18:50:11 |
| AffymetrixDataTestFiles/ | - | 2022-10-18 18:50:11 |
| Affymoe4302Expr/ | - | 2022-10-18 18:50:11 |
| AmpAffyExample/ | - | 2022-10-18 18:50:11 |
| AneuFinderData/ | - | 2022-10-18 18:50:11 |
| AshkenazimSonChr21/ | - | 2022-10-18 18:50:11 |
| AssessORFData/ | - | 2022-10-18 18:50:11 |
| BeadArrayUseCases/ | - | 2022-10-18 18:50:11 |
| BeadSorted.Saliva.EPIC/ | - | 2022-10-18 18:50:11 |
| BioImageDbs/ | - | 2022-10-18 18:50:11 |
| BloodCancerMultiOmics2017/ | - | 2022-10-18 18:50:11 |
| CCl4/ | - | 2022-10-18 18:50:11 |
| CLL/ | - | 2022-10-18 18:50:11 |
| CLLmethylation/ | - | 2022-10-18 18:50:11 |
| COHCAPanno/ | - | 2022-10-18 18:50:11 |
| CONFESSdata/ | - | 2022-10-18 18:50:11 |
| COPDSexualDimorphism.data/ | - | 2022-10-18 18:50:11 |
| COSMIC.67/ | - | 2022-10-18 18:50:11 |
| CRCL18/ | - | 2022-10-18 18:50:11 |
| CardinalWorkflows/ | - | 2022-10-18 18:50:11 |
| CellMapperData/ | - | 2022-10-18 18:50:11 |
| ChAMPdata/ | - | 2022-10-18 18:50:11 |
| ChIC.data/ | - | 2022-10-18 18:50:11 |
| ChIPXpressData/ | - | 2022-10-18 18:50:11 |
| ChIPexoQualExample/ | - | 2022-10-18 18:50:11 |
| ChimpHumanBrainData/ | - | 2022-10-18 18:50:11 |
| CluMSIDdata/ | - | 2022-10-18 18:50:11 |
| ConnectivityMap/ | - | 2022-10-18 18:50:11 |
| CopyNeutralIMA/ | - | 2022-10-18 18:50:11 |
| CopyhelpeR/ | - | 2022-10-18 18:50:11 |
| DAPARdata/ | - | 2022-10-18 18:50:11 |
| DExMAdata/ | - | 2022-10-18 18:50:11 |
| DLBCL/ | - | 2022-10-18 18:50:11 |
| DMRcatedata/ | - | 2022-10-18 18:50:11 |
| DREAM4/ | - | 2022-10-18 18:50:11 |
| DeSousa2013/ | - | 2022-10-18 18:50:11 |
| DmelSGI/ | - | 2022-10-18 18:50:11 |
| DonaPLLP2013/ | - | 2022-10-18 18:50:11 |
| DropletTestFiles/ | - | 2022-10-18 18:50:11 |
| DrugVsDiseasedata/ | - | 2022-10-18 18:50:11 |
| DuoClustering2018/ | - | 2022-10-18 18:50:11 |
| DvDdata/ | - | 2022-10-18 18:50:11 |
| EGSEAdata/ | - | 2022-10-18 18:50:12 |
| ELMER.data/ | - | 2022-10-18 18:50:12 |
| EatonEtAlChIPseq/ | - | 2022-10-18 18:50:12 |
| FANTOM3and4CAGE/ | - | 2022-10-18 18:50:12 |
| FIs/ | - | 2022-10-18 18:50:12 |
| FieldEffectCrc/ | - | 2022-10-18 18:50:12 |
| Fletcher2013a/ | - | 2022-10-18 18:50:12 |
| Fletcher2013b/ | - | 2022-10-18 18:50:12 |
| FlowSorted.Blood.450k/ | - | 2022-10-18 18:50:12 |
| FlowSorted.Blood.EPIC/ | - | 2022-10-18 18:50:12 |
| FlowSorted.CordBlood.450k/ | - | 2022-10-18 18:50:12 |
| FlowSorted.CordBloodCombined.450k/ | - | 2022-10-18 18:50:12 |
| FlowSorted.CordBloodNorway.450k/ | - | 2022-10-18 18:50:12 |
| FlowSorted.DLPFC.450k/ | - | 2022-10-18 18:50:12 |
| GIGSEAdata/ | - | 2022-10-18 18:50:12 |
| GSBenchMark/ | - | 2022-10-18 18:50:12 |
| GSE103322/ | - | 2022-10-18 18:50:12 |
| GSE13015/ | - | 2022-10-18 18:50:12 |
| GSE159526/ | - | 2022-10-18 18:50:12 |
| GSE62944/ | - | 2022-10-18 18:50:12 |
| GSVAdata/ | - | 2022-10-18 18:50:12 |
| GWASdata/ | - | 2022-10-18 18:50:12 |
| GenomicDistributionsData/ | - | 2022-10-18 18:50:12 |
| GeuvadisTranscriptExpr/ | - | 2022-10-18 18:50:12 |
| HCAData/ | - | 2022-10-18 18:50:12 |
| HD2013SGI/ | - | 2022-10-18 18:50:12 |
| HDCytoData/ | - | 2022-10-18 18:50:12 |
| HEEBOdata/ | - | 2022-10-18 18:50:12 |
| HIVcDNAvantWout03/ | - | 2022-10-18 18:50:12 |
| HMP16SData/ | - | 2022-10-18 18:50:12 |
| HMP2Data/ | - | 2022-10-18 18:50:12 |
| HSMMSingleCell/ | - | 2022-10-18 18:50:12 |
| HarmanData/ | - | 2022-10-18 18:50:12 |
| HarmonizedTCGAData/ | - | 2022-10-18 18:50:12 |
| HelloRangesData/ | - | 2022-10-18 18:50:12 |
| HiCDataHumanIMR90/ | - | 2022-10-18 18:50:12 |
| HiCDataLymphoblast/ | - | 2022-10-18 18:50:12 |
| HighlyReplicatedRNASeq/ | - | 2022-10-18 18:50:12 |
| Hiiragi2013/ | - | 2022-10-18 18:50:12 |
| HumanAffyData/ | - | 2022-10-18 18:50:12 |
| IHWpaper/ | - | 2022-10-18 18:50:12 |
| ITALICSData/ | - | 2022-10-18 18:50:12 |
| Illumina450ProbeVariants.db/ | - | 2022-10-18 18:50:12 |
| IlluminaDataTestFiles/ | - | 2022-10-18 18:50:12 |
| Iyer517/ | - | 2022-10-18 18:50:12 |
| JASPAR2014/ | - | 2022-10-18 18:50:12 |
| JASPAR2016/ | - | 2022-10-18 18:50:12 |
| KEGGandMetacoreDzPathwaysGEO/ | - | 2022-10-18 18:50:12 |
| KEGGdzPathwaysGEO/ | - | 2022-10-18 18:50:12 |
| KOdata/ | - | 2022-10-18 18:50:12 |
| LRcellTypeMarkers/ | - | 2022-10-18 18:50:12 |
| LiebermanAidenHiC2009/ | - | 2022-10-18 18:50:12 |
| ListerEtAlBSseq/ | - | 2022-10-18 18:50:12 |
| LungCancerACvsSCCGEO/ | - | 2022-10-18 18:50:12 |
| LungCancerLines/ | - | 2022-10-18 18:50:12 |
| M3DExampleData/ | - | 2022-10-18 18:50:12 |
| MACSdata/ | - | 2022-10-18 18:50:13 |
| MAQCsubset/ | - | 2022-10-18 18:50:13 |
| MAQCsubsetILM/ | - | 2022-10-18 18:50:13 |
| MEDIPSData/ | - | 2022-10-18 18:50:13 |
| MEEBOdata/ | - | 2022-10-18 18:50:13 |
| MIGSAdata/ | - | 2022-10-18 18:50:13 |
| MMAPPR2data/ | - | 2022-10-18 18:50:13 |
| MMDiffBamSubset/ | - | 2022-10-18 18:50:13 |
| MOFAdata/ | - | 2022-10-18 18:50:13 |
| MSMB/ | - | 2022-10-18 18:50:13 |
| MSstatsBioData/ | - | 2022-10-18 18:50:13 |
| MUGAExampleData/ | - | 2022-10-18 18:50:13 |
| MetaGxBreast/ | - | 2022-10-18 18:50:13 |
| MetaGxOvarian/ | - | 2022-10-18 18:50:13 |
| MetaGxPancreas/ | - | 2022-10-18 18:50:13 |
| MethylAidData/ | - | 2022-10-18 18:50:13 |
| MethylSeqData/ | - | 2022-10-18 18:50:13 |
| MouseGastrulationData/ | - | 2022-10-18 18:50:13 |
| MouseThymusAgeing/ | - | 2022-10-18 18:50:13 |
| NCIgraphData/ | - | 2022-10-18 18:50:13 |
| NGScopyData/ | - | 2022-10-18 18:50:13 |
| NanoporeRNASeq/ | - | 2022-10-18 18:50:13 |
| NestLink/ | - | 2022-10-18 18:50:13 |
| Neve2006/ | - | 2022-10-18 18:50:13 |
| NxtIRFdata/ | - | 2022-10-18 18:50:13 |
| OMICsPCAdata/ | - | 2022-10-18 18:50:13 |
| ObMiTi/ | - | 2022-10-18 18:50:13 |
| OnassisJavaLibs/ | - | 2022-10-18 18:50:13 |
| PCHiCdata/ | - | 2022-10-18 18:50:13 |
| PREDAsampledata/ | - | 2022-10-18 18:50:13 |
| PWMEnrich.Dmelanogaster.background/ | - | 2022-10-18 18:50:13 |
| PWMEnrich.Hsapiens.background/ | - | 2022-10-18 18:50:13 |
| PWMEnrich.Mmusculus.background/ | - | 2022-10-18 18:50:13 |
| PasillaTranscriptExpr/ | - | 2022-10-18 18:50:13 |
| PathNetData/ | - | 2022-10-18 18:50:13 |
| PepsNMRData/ | - | 2022-10-18 18:50:13 |
| PhyloProfileData/ | - | 2022-10-18 18:50:13 |
| ProData/ | - | 2022-10-18 18:50:13 |
| PtH2O2lipids/ | - | 2022-10-18 18:50:13 |
| QDNAseq.hg19/ | - | 2022-10-18 18:50:13 |
| QDNAseq.mm10/ | - | 2022-10-18 18:50:13 |
| QUBICdata/ | - | 2022-10-18 18:50:13 |
| RGMQLlib/ | - | 2022-10-18 18:50:13 |
| RITANdata/ | - | 2022-10-18 18:50:13 |
| RLHub/ | - | 2022-10-18 18:50:13 |
| RMassBankData/ | - | 2022-10-18 18:50:13 |
| RNASeqRData/ | - | 2022-10-18 18:50:13 |
| RNAinteractMAPK/ | - | 2022-10-18 18:50:13 |
| RNAmodR.Data/ | - | 2022-10-18 18:50:13 |
| RNAseqData.HNRNPC.bam.chr14/ | - | 2022-10-18 18:50:13 |
| RRBSdata/ | - | 2022-10-18 18:50:14 |
| RTCGA.CNV/ | - | 2022-10-18 18:50:14 |
| RTCGA.PANCAN12/ | - | 2022-10-18 18:50:14 |
| RTCGA.RPPA/ | - | 2022-10-18 18:50:14 |
| RTCGA.clinical/ | - | 2022-10-18 18:50:14 |
| RTCGA.mRNA/ | - | 2022-10-18 18:50:14 |
| RTCGA.methylation/ | - | 2022-10-18 18:50:14 |
| RTCGA.miRNASeq/ | - | 2022-10-18 18:50:14 |
| RTCGA.mutations/ | - | 2022-10-18 18:50:14 |
| RTCGA.rnaseq/ | - | 2022-10-18 18:50:14 |
| RUVnormalizeData/ | - | 2022-10-18 18:50:14 |
| RcisTarget.hg19.motifDBs.cisbpOnly.500bp/ | - | 2022-10-18 18:50:13 |
| ReactomeGSA.data/ | - | 2022-10-18 18:50:13 |
| RegParallel/ | - | 2022-10-18 18:50:13 |
| RforProteomics/ | - | 2022-10-18 18:50:13 |
| RnBeads.hg19/ | - | 2022-10-18 18:50:13 |
| RnBeads.hg38/ | - | 2022-10-18 18:50:13 |
| RnBeads.mm10/ | - | 2022-10-18 18:50:14 |
| RnBeads.mm9/ | - | 2022-10-18 18:50:14 |
| RnBeads.rn5/ | - | 2022-10-18 18:50:14 |
| RnaSeqSampleSizeData/ | - | 2022-10-18 18:50:13 |
| SBGNview.data/ | - | 2022-10-18 18:50:14 |
| SCATEData/ | - | 2022-10-18 18:50:14 |
| SCLCBam/ | - | 2022-10-18 18:50:14 |
| SNAData/ | - | 2022-10-18 18:50:14 |
| SNAGEEdata/ | - | 2022-10-18 18:50:14 |
| SNPhoodData/ | - | 2022-10-18 18:50:14 |
| STexampleData/ | - | 2022-10-18 18:50:14 |
| SVM2CRMdata/ | - | 2022-10-18 18:50:14 |
| SimBenchData/ | - | 2022-10-18 18:50:14 |
| Single.mTEC.Transcriptomes/ | - | 2022-10-18 18:50:14 |
| SingleCellMultiModal/ | - | 2022-10-18 18:50:14 |
| SingleMoleculeFootprintingData/ | - | 2022-10-18 18:50:14 |
| SomatiCAData/ | - | 2022-10-18 18:50:14 |
| SomaticCancerAlterations/ | - | 2022-10-18 18:50:14 |
| SpikeIn/ | - | 2022-10-18 18:50:14 |
| SpikeInSubset/ | - | 2022-10-18 18:50:14 |
| TBX20BamSubset/ | - | 2022-10-18 18:50:14 |
| TCGAMethylation450k/ | - | 2022-10-18 18:50:14 |
| TCGAWorkflowData/ | - | 2022-10-18 18:50:14 |
| TCGAbiolinksGUI.data/ | - | 2022-10-18 18:50:14 |
| TCGAcrcmRNA/ | - | 2022-10-18 18:50:14 |
| TCGAcrcmiRNA/ | - | 2022-10-18 18:50:14 |
| TENxBUSData/ | - | 2022-10-18 18:50:14 |
| TENxBrainData/ | - | 2022-10-18 18:50:14 |
| TENxPBMCData/ | - | 2022-10-18 18:50:14 |
| TENxVisiumData/ | - | 2022-10-18 18:50:14 |
| TMExplorer/ | - | 2022-10-18 18:50:14 |
| TabulaMurisData/ | - | 2022-10-18 18:50:14 |
| TabulaMurisSenisData/ | - | 2022-10-18 18:50:14 |
| TargetScoreData/ | - | 2022-10-18 18:50:14 |
| TargetSearchData/ | - | 2022-10-18 18:50:14 |
| TimerQuant/ | - | 2022-10-18 18:50:14 |
| VariantToolsData/ | - | 2022-10-18 18:50:14 |
| VectraPolarisData/ | - | 2022-10-18 18:50:14 |
| WES.1KG.WUGSC/ | - | 2022-10-18 18:50:14 |
| WGSmapp/ | - | 2022-10-18 18:50:14 |
| XhybCasneuf/ | - | 2022-10-18 18:50:14 |
| adductData/ | - | 2022-10-18 18:50:11 |
| affycompData/ | - | 2022-10-18 18:50:11 |
| affydata/ | - | 2022-10-18 18:50:11 |
| airway/ | - | 2022-10-18 18:50:11 |
| alpineData/ | - | 2022-10-18 18:50:11 |
| antiProfilesData/ | - | 2022-10-18 18:50:11 |
| aracne.networks/ | - | 2022-10-18 18:50:11 |
| bcellViper/ | - | 2022-10-18 18:50:11 |
| beadarrayExampleData/ | - | 2022-10-18 18:50:11 |
| benchmarkfdrData2019/ | - | 2022-10-18 18:50:11 |
| beta7/ | - | 2022-10-18 18:50:11 |
| biotmleData/ | - | 2022-10-18 18:50:11 |
| biscuiteerData/ | - | 2022-10-18 18:50:11 |
| bladderbatch/ | - | 2022-10-18 18:50:11 |
| blimaTestingData/ | - | 2022-10-18 18:50:11 |
| bodymapRat/ | - | 2022-10-18 18:50:11 |
| breakpointRdata/ | - | 2022-10-18 18:50:11 |
| breastCancerMAINZ/ | - | 2022-10-18 18:50:11 |
| breastCancerNKI/ | - | 2022-10-18 18:50:11 |
| breastCancerTRANSBIG/ | - | 2022-10-18 18:50:11 |
| breastCancerUNT/ | - | 2022-10-18 18:50:11 |
| breastCancerUPP/ | - | 2022-10-18 18:50:11 |
| breastCancerVDX/ | - | 2022-10-18 18:50:11 |
| brgedata/ | - | 2022-10-18 18:50:11 |
| bronchialIL13/ | - | 2022-10-18 18:50:11 |
| bsseqData/ | - | 2022-10-18 18:50:11 |
| cMap2data/ | - | 2022-10-18 18:50:11 |
| cancerdata/ | - | 2022-10-18 18:50:11 |
| ccTutorial/ | - | 2022-10-18 18:50:11 |
| ccdata/ | - | 2022-10-18 18:50:11 |
| celarefData/ | - | 2022-10-18 18:50:11 |
| celldex/ | - | 2022-10-18 18:50:11 |
| chipenrich.data/ | - | 2022-10-18 18:50:11 |
| chipseqDBData/ | - | 2022-10-18 18:50:11 |
| chromstaRData/ | - | 2022-10-18 18:50:11 |
| clustifyrdatahub/ | - | 2022-10-18 18:50:11 |
| cnvGSAdata/ | - | 2022-10-18 18:50:11 |
| colonCA/ | - | 2022-10-18 18:50:11 |
| crisprScoreData/ | - | 2022-10-18 18:50:11 |
| curatedAdipoArray/ | - | 2022-10-18 18:50:11 |
| curatedAdipoChIP/ | - | 2022-10-18 18:50:11 |
| curatedAdipoRNA/ | - | 2022-10-18 18:50:11 |
| curatedBladderData/ | - | 2022-10-18 18:50:11 |
| curatedBreastData/ | - | 2022-10-18 18:50:11 |
| curatedCRCData/ | - | 2022-10-18 18:50:11 |
| curatedMetagenomicData/ | - | 2022-10-18 18:50:11 |
| curatedOvarianData/ | - | 2022-10-18 18:50:11 |
| curatedTBData/ | - | 2022-10-18 18:50:11 |
| curatedTCGAData/ | - | 2022-10-18 18:50:11 |
| davidTiling/ | - | 2022-10-18 18:50:11 |
| depmap/ | - | 2022-10-18 18:50:11 |
| derfinderData/ | - | 2022-10-18 18:50:11 |
| diffloopdata/ | - | 2022-10-18 18:50:11 |
| diggitdata/ | - | 2022-10-18 18:50:11 |
| dorothea/ | - | 2022-10-18 18:50:11 |
| dressCheck/ | - | 2022-10-18 18:50:11 |
| dyebiasexamples/ | - | 2022-10-18 18:50:12 |
| easierData/ | - | 2022-10-18 18:50:12 |
| ecoliLeucine/ | - | 2022-10-18 18:50:12 |
| emtdata/ | - | 2022-10-18 18:50:12 |
| epimutacionsData/ | - | 2022-10-18 18:50:12 |
| estrogen/ | - | 2022-10-18 18:50:12 |
| etec16s/ | - | 2022-10-18 18:50:12 |
| ewceData/ | - | 2022-10-18 18:50:12 |
| faahKO/ | - | 2022-10-18 18:50:12 |
| fabiaData/ | - | 2022-10-18 18:50:12 |
| ffpeExampleData/ | - | 2022-10-18 18:50:12 |
| fibroEset/ | - | 2022-10-18 18:50:12 |
| fission/ | - | 2022-10-18 18:50:12 |
| flowPloidyData/ | - | 2022-10-18 18:50:12 |
| flowWorkspaceData/ | - | 2022-10-18 18:50:12 |
| frmaExampleData/ | - | 2022-10-18 18:50:12 |
| furrowSeg/ | - | 2022-10-18 18:50:12 |
| gageData/ | - | 2022-10-18 18:50:12 |
| gaschYHS/ | - | 2022-10-18 18:50:12 |
| gatingMLData/ | - | 2022-10-18 18:50:12 |
| gcspikelite/ | - | 2022-10-18 18:50:12 |
| geneLenDataBase/ | - | 2022-10-18 18:50:12 |
| genomationData/ | - | 2022-10-18 18:50:12 |
| golubEsets/ | - | 2022-10-18 18:50:12 |
| gpaExample/ | - | 2022-10-18 18:50:12 |
| grndata/ | - | 2022-10-18 18:50:12 |
| h5vcData/ | - | 2022-10-18 18:50:12 |
| hapmap100khind/ | - | 2022-10-18 18:50:12 |
| hapmap100kxba/ | - | 2022-10-18 18:50:12 |
| hapmap500knsp/ | - | 2022-10-18 18:50:12 |
| hapmap500ksty/ | - | 2022-10-18 18:50:12 |
| hapmapsnp5/ | - | 2022-10-18 18:50:12 |
| hapmapsnp6/ | - | 2022-10-18 18:50:12 |
| harbChIP/ | - | 2022-10-18 18:50:12 |
| healthyControlsPresenceChecker/ | - | 2022-10-18 18:50:12 |
| healthyFlowData/ | - | 2022-10-18 18:50:12 |
| hgu133abarcodevecs/ | - | 2022-10-18 18:50:12 |
| hgu133plus2CellScore/ | - | 2022-10-18 18:50:12 |
| hgu133plus2barcodevecs/ | - | 2022-10-18 18:50:12 |
| hgu2beta7/ | - | 2022-10-18 18:50:12 |
| humanStemCell/ | - | 2022-10-18 18:50:12 |
| imcdatasets/ | - | 2022-10-18 18:50:12 |
| kidpack/ | - | 2022-10-18 18:50:12 |
| leeBamViews/ | - | 2022-10-18 18:50:12 |
| leukemiasEset/ | - | 2022-10-18 18:50:12 |
| lumiBarnes/ | - | 2022-10-18 18:50:12 |
| lungExpression/ | - | 2022-10-18 18:50:12 |
| lydata/ | - | 2022-10-18 18:50:12 |
| mAPKLData/ | - | 2022-10-18 18:50:13 |
| mCSEAdata/ | - | 2022-10-18 18:50:13 |
| macrophage/ | - | 2022-10-18 18:50:12 |
| mammaPrintData/ | - | 2022-10-18 18:50:13 |
| maqcExpression4plex/ | - | 2022-10-18 18:50:13 |
| mcsurvdata/ | - | 2022-10-18 18:50:13 |
| metaMSdata/ | - | 2022-10-18 18:50:13 |
| methylclockData/ | - | 2022-10-18 18:50:13 |
| miRNATarget/ | - | 2022-10-18 18:50:13 |
| miRcompData/ | - | 2022-10-18 18:50:13 |
| microRNAome/ | - | 2022-10-18 18:50:13 |
| microbiomeDataSets/ | - | 2022-10-18 18:50:13 |
| minfiData/ | - | 2022-10-18 18:50:13 |
| minfiDataEPIC/ | - | 2022-10-18 18:50:13 |
| minionSummaryData/ | - | 2022-10-18 18:50:13 |
| mosaicsExample/ | - | 2022-10-18 18:50:13 |
| mouse4302barcodevecs/ | - | 2022-10-18 18:50:13 |
| msPurityData/ | - | 2022-10-18 18:50:13 |
| msd16s/ | - | 2022-10-18 18:50:13 |
| msdata/ | - | 2022-10-18 18:50:13 |
| msigdb/ | - | 2022-10-18 18:50:13 |
| msqc1/ | - | 2022-10-18 18:50:13 |
| mtbls2/ | - | 2022-10-18 18:50:13 |
| muscData/ | - | 2022-10-18 18:50:13 |
| mvoutData/ | - | 2022-10-18 18:50:13 |
| nanotubes/ | - | 2022-10-18 18:50:13 |
| nullrangesData/ | - | 2022-10-18 18:50:13 |
| oct4/ | - | 2022-10-18 18:50:13 |
| optimalFlowData/ | - | 2022-10-18 18:50:13 |
| pRolocdata/ | - | 2022-10-18 18:50:13 |
| parathyroidSE/ | - | 2022-10-18 18:50:13 |
| pasilla/ | - | 2022-10-18 18:50:13 |
| pasillaBamSubset/ | - | 2022-10-18 18:50:13 |
| pcxnData/ | - | 2022-10-18 18:50:13 |
| pd.atdschip.tiling/ | - | 2022-10-18 18:50:13 |
| pepDat/ | - | 2022-10-18 18:50:13 |
| plasFIA/ | - | 2022-10-18 18:50:13 |
| plotgardenerData/ | - | 2022-10-18 18:50:13 |
| ppiData/ | - | 2022-10-18 18:50:13 |
| prebsdata/ | - | 2022-10-18 18:50:13 |
| preciseTADhub/ | - | 2022-10-18 18:50:13 |
| prostateCancerCamcap/ | - | 2022-10-18 18:50:13 |
| prostateCancerGrasso/ | - | 2022-10-18 18:50:13 |
| prostateCancerStockholm/ | - | 2022-10-18 18:50:13 |
| prostateCancerTaylor/ | - | 2022-10-18 18:50:13 |
| prostateCancerVarambally/ | - | 2022-10-18 18:50:13 |
| ptairData/ | - | 2022-10-18 18:50:13 |
| pumadata/ | - | 2022-10-18 18:50:13 |
| pwrEWAS.data/ | - | 2022-10-18 18:50:13 |
| qPLEXdata/ | - | 2022-10-18 18:50:13 |
| rRDPData/ | - | 2022-10-18 18:50:14 |
| rcellminerData/ | - | 2022-10-18 18:50:13 |
| restfulSEData/ | - | 2022-10-18 18:50:13 |
| rheumaticConditionWOLLBOLD/ | - | 2022-10-18 18:50:13 |
| sampleClassifierData/ | - | 2022-10-18 18:50:14 |
| scATAC.Explorer/ | - | 2022-10-18 18:50:14 |
| scRNAseq/ | - | 2022-10-18 18:50:14 |
| scTHI.data/ | - | 2022-10-18 18:50:14 |
| scanMiRData/ | - | 2022-10-18 18:50:14 |
| scpdata/ | - | 2022-10-18 18:50:14 |
| seq2pathway.data/ | - | 2022-10-18 18:50:14 |
| seqCNA.annot/ | - | 2022-10-18 18:50:14 |
| seqc/ | - | 2022-10-18 18:50:14 |
| serumStimulation/ | - | 2022-10-18 18:50:14 |
| sesameData/ | - | 2022-10-18 18:50:14 |
| seventyGeneData/ | - | 2022-10-18 18:50:14 |
| shinyMethylData/ | - | 2022-10-18 18:50:14 |
| signatureSearchData/ | - | 2022-10-18 18:50:14 |
| simpIntLists/ | - | 2022-10-18 18:50:14 |
| spatialDmelxsim/ | - | 2022-10-18 18:50:14 |
| spatialLIBD/ | - | 2022-10-18 18:50:14 |
| spqnData/ | - | 2022-10-18 18:50:14 |
| stemHypoxia/ | - | 2022-10-18 18:50:14 |
| stjudem/ | - | 2022-10-18 18:50:14 |
| synapterdata/ | - | 2022-10-18 18:50:14 |
| systemPipeRdata/ | - | 2022-10-18 18:50:14 |
| tartare/ | - | 2022-10-18 18:50:14 |
| timecoursedata/ | - | 2022-10-18 18:50:14 |
| tinesath1cdf/ | - | 2022-10-18 18:50:14 |
| tinesath1probe/ | - | 2022-10-18 18:50:14 |
| tissueTreg/ | - | 2022-10-18 18:50:14 |
| tofsimsData/ | - | 2022-10-18 18:50:14 |
| topdownrdata/ | - | 2022-10-18 18:50:14 |
| tuberculosis/ | - | 2022-10-18 18:50:14 |
| tweeDEseqCountData/ | - | 2022-10-18 18:50:14 |
| tximportData/ | - | 2022-10-18 18:50:14 |
| vulcandata/ | - | 2022-10-18 18:50:14 |
| xcoredata/ | - | 2022-10-18 18:50:14 |
| yeastCC/ | - | 2022-10-18 18:50:14 |
| yeastExpData/ | - | 2022-10-18 18:50:14 |
| yeastGSData/ | - | 2022-10-18 18:50:14 |
| yeastNagalakshmi/ | - | 2022-10-18 18:50:14 |
| yeastRNASeq/ | - | 2022-10-18 18:50:14 |
| zebrafishRNASeq/ | - | 2022-10-18 18:50:14 |
| 120px-Blue_Light_Icon.svg.png | 7.1 KiB | 2022-10-18 18:50:09 |
| 120px-Green_Light_Icon.svg.png | 7.1 KiB | 2022-10-18 18:50:09 |
| 120px-Red_Light_Icon.svg.png | 7.0 KiB | 2022-10-18 18:50:09 |
| BUILD_STATUS_DB.txt | 44.7 KiB | 2022-10-18 18:50:09 |
| DEVEL3b.png | 2.6 KiB | 2022-10-18 18:50:09 |
| PROPAGATION_STATUS_DB.txt | 30.1 KiB | 2022-10-18 18:50:09 |
| Renviron.bioc | 2.0 KiB | 2022-10-18 18:50:09 |
| index.html | 570.9 KiB | 2022-10-18 18:50:14 |
| long-report.html | 560.7 KiB | 2021-12-15 06:37:08 |
| meat-index.dcf | 44.2 KiB | 2022-10-18 18:50:09 |
| nebbiolo1-NodeInfo.html | 6.0 KiB | 2022-10-18 18:50:14 |
| nebbiolo1-R-instpkgs.html | 459.2 KiB | 2022-10-18 18:50:14 |
| nebbiolo2-NodeInfo.html | 6.0 KiB | 2022-02-17 13:36:54 |
| nebbiolo2-R-instpkgs.html | 156.6 KiB | 2022-02-17 13:36:54 |
| report.css | 9.6 KiB | 2022-10-18 18:50:09 |
| report.js | 6.0 KiB | 2022-10-18 18:50:09 |
| report.tgz | 1.1 MiB | 2022-10-18 18:50:15 |
| skipped-index.dcf | 0 B | 2022-10-18 18:50:09 |