Package: JASPAR2020 Version: 0.99.8 Command: /home/biocbuild/bbs-3.15-bioc/R/bin/R CMD check --install=check:JASPAR2020.install-out.txt --library=/home/biocbuild/bbs-3.15-bioc/R/library --no-vignettes --timings JASPAR2020_0.99.8.tar.gz StartedAt: 2022-09-21 03:02:41 -0400 (Wed, 21 Sep 2022) EndedAt: 2022-09-21 03:03:07 -0400 (Wed, 21 Sep 2022) EllapsedTime: 25.9 seconds RetCode: 0 Status: OK CheckDir: JASPAR2020.Rcheck Warnings: 0