| Back to Long Tests report for BioC 3.15 |
This page was generated on 2022-10-15 21:00:02 -0400 (Sat, 15 Oct 2022).
| Hostname | OS | Arch (*) | R version | Installed pkgs |
|---|---|---|---|---|
| nebbiolo1 | Linux (Ubuntu 20.04.5 LTS) | x86_64 | 4.2.1 (2022-06-23) -- "Funny-Looking Kid" | 4383 |
| Click on any hostname to see more info about the system (e.g. compilers) (*) as reported by 'uname -p', except on Windows and Mac OS X | ||||
|
To the developers/maintainers of the cBioPortalData package: Make sure to use the following settings in order to reproduce any error or warning you see on this page. |
| Package 14/26 | Hostname | OS / Arch | CHECK | |||||||
| cBioPortalData 2.8.2 (landing page) Marcel Ramos
| nebbiolo1 | Linux (Ubuntu 20.04.5 LTS) / x86_64 | ERROR | |||||||
| Package: cBioPortalData |
| Version: 2.8.2 |
| Command: /home/biocbuild/bbs-3.15-bioc/R/bin/R CMD build --keep-empty-dirs --no-resave-data --no-build-vignettes --no-manual cBioPortalData |
| StartedAt: 2022-10-15 08:00:14 -0400 (Sat, 15 Oct 2022) |
| EndedAt: 2022-10-15 08:00:15 -0400 (Sat, 15 Oct 2022) |
| EllapsedTime: 0.9 seconds |
| RetCode: 0 |
| Status: OK |
| PackageFile: cBioPortalData_2.8.2.tar.gz |
| PackageFileSize: 66.25 KiB |
############################################################################## ############################################################################## ### ### Running command: ### ### /home/biocbuild/bbs-3.15-bioc/R/bin/R CMD build --keep-empty-dirs --no-resave-data --no-build-vignettes --no-manual cBioPortalData ### ############################################################################## ############################################################################## * checking for file ‘cBioPortalData/DESCRIPTION’ ... OK * preparing ‘cBioPortalData’: * checking DESCRIPTION meta-information ... OK * checking for LF line-endings in source and make files and shell scripts * checking for empty or unneeded directories * building ‘cBioPortalData_2.8.2.tar.gz’