| Back to Long Tests report for BioC 3.15 | 
This page was generated on 2022-10-15 21:00:02 -0400 (Sat, 15 Oct 2022).
| Hostname | OS | Arch (*) | R version | Installed pkgs | 
|---|---|---|---|---|
| nebbiolo1 | Linux (Ubuntu 20.04.5 LTS) | x86_64 | 4.2.1 (2022-06-23) -- "Funny-Looking Kid" | 4383 | 
| Click on any hostname to see more info about the system (e.g. compilers) (*) as reported by 'uname -p', except on Windows and Mac OS X | ||||
| To the developers/maintainers of the biodbLipidmaps package: Make sure to use the following settings in order to reproduce any error or warning you see on this page. | 
| Package 9/26 | Hostname | OS / Arch | CHECK | |||||||
| biodbLipidmaps 1.2.0  (landing page) Pierrick Roger 
 | nebbiolo1 | Linux (Ubuntu 20.04.5 LTS) / x86_64 | OK | |||||||