| Back to Long Tests report for BioC 3.15 |
This page was generated on 2022-10-15 21:00:02 -0400 (Sat, 15 Oct 2022).
| Hostname | OS | Arch (*) | R version | Installed pkgs |
|---|---|---|---|---|
| nebbiolo1 | Linux (Ubuntu 20.04.5 LTS) | x86_64 | 4.2.1 (2022-06-23) -- "Funny-Looking Kid" | 4383 |
| Click on any hostname to see more info about the system (e.g. compilers) (*) as reported by 'uname -p', except on Windows and Mac OS X | ||||
|
To the developers/maintainers of the biodb package: Make sure to use the following settings in order to reproduce any error or warning you see on this page. |
| Package 4/26 | Hostname | OS / Arch | CHECK | |||||||
| biodb 1.4.2 (landing page) Pierrick Roger
| nebbiolo1 | Linux (Ubuntu 20.04.5 LTS) / x86_64 | OK | |||||||
| Package: biodb |
| Version: 1.4.2 |
| Command: /home/biocbuild/bbs-3.15-bioc/R/bin/R CMD build --keep-empty-dirs --no-resave-data --no-build-vignettes --no-manual biodb |
| StartedAt: 2022-10-15 08:00:10 -0400 (Sat, 15 Oct 2022) |
| EndedAt: 2022-10-15 08:00:12 -0400 (Sat, 15 Oct 2022) |
| EllapsedTime: 1.9 seconds |
| RetCode: 0 |
| Status: OK |
| PackageFile: biodb_1.4.2.tar.gz |
| PackageFileSize: 344.9 KiB |
############################################################################## ############################################################################## ### ### Running command: ### ### /home/biocbuild/bbs-3.15-bioc/R/bin/R CMD build --keep-empty-dirs --no-resave-data --no-build-vignettes --no-manual biodb ### ############################################################################## ############################################################################## * checking for file ‘biodb/DESCRIPTION’ ... OK * preparing ‘biodb’: * checking DESCRIPTION meta-information ... OK * cleaning src * checking for LF line-endings in source and make files and shell scripts * checking for empty or unneeded directories * building ‘biodb_1.4.2.tar.gz’