Package: rnaseqDTU Version: 1.14.0 Command: chmod a+r rnaseqDTU -R && D:\biocbuild\bbs-3.14-bioc\R\bin\R.exe CMD build --keep-empty-dirs --no-resave-data rnaseqDTU StartedAt: 2022-04-11 15:07:37 -0400 (Mon, 11 Apr 2022) EndedAt: 2022-04-11 15:09:29 -0400 (Mon, 11 Apr 2022) EllapsedTime: 112.3 seconds RetCode: 0 Status: OK PackageFile: rnaseqDTU_1.14.0.tar.gz PackageFileSize: 8.154 MiB