Package: maEndToEnd Version: 2.14.0 Command: chmod a+r maEndToEnd -R && D:\biocbuild\bbs-3.14-bioc\R\bin\R.exe CMD build --keep-empty-dirs --no-resave-data maEndToEnd StartedAt: 2022-04-11 15:06:32 -0400 (Mon, 11 Apr 2022) EndedAt: 2022-04-11 15:20:49 -0400 (Mon, 11 Apr 2022) EllapsedTime: 857.3 seconds RetCode: 0 Status: OK PackageFile: maEndToEnd_2.14.0.tar.gz PackageFileSize: 1.807 MiB