git_url: https://git.bioconductor.org/packages/breastCancerVDX git_branch: RELEASE_3_14 git_last_commit: e2d6b06 git_last_commit_date: 2021-10-26 11:46:30 -0400 (Tue, 26 Oct 2021) Package: breastCancerVDX Version: 1.32.0 Maintainer: Markus Schroeder , Benjamin Haibe-Kains MaintainerEmail: bhaibeka at jimmy.harvard.edu