Package: GenomicFeatures Version: 1.46.5 Command: /Library/Frameworks/R.framework/Resources/bin/R CMD check --test-dir=longtests --no-stop-on-test-error --no-codoc --no-examples --no-manual --ignore-vignettes --check-subdirs=no GenomicFeatures_1.46.5.tar.gz StartedAt: 2022-04-09 08:14:29 -0400 (Sat, 09 Apr 2022) EndedAt: 2022-04-09 08:17:57 -0400 (Sat, 09 Apr 2022) EllapsedTime: 207.2 seconds RetCode: 0 Status: WARNINGS CheckDir: GenomicFeatures.Rcheck Warnings: 1