Package: ChromSCape Version: 1.4.0 Command: /Library/Frameworks/R.framework/Resources/bin/R CMD check --test-dir=longtests --no-stop-on-test-error --no-codoc --no-examples --no-manual --ignore-vignettes --check-subdirs=no ChromSCape_1.4.0.tar.gz StartedAt: 2022-04-09 08:09:00 -0400 (Sat, 09 Apr 2022) EndedAt: 2022-04-09 08:15:45 -0400 (Sat, 09 Apr 2022) EllapsedTime: 405.4 seconds RetCode: 1 Status: ERROR CheckDir: ChromSCape.Rcheck Warnings: NA